

BEGIN:VCALENDAR
VERSION:2.0
PRODID:-//Site officiel de la mairie de Rouffiac Tolosan - ECPv4.6.7//NONSGML v1.0//EN
CALSCALE:GREGORIAN
METHOD:PUBLISH
X-WR-CALNAME:Site officiel de la mairie de Rouffiac Tolosan
X-ORIGINAL-URL:https://mairie-rouffiac-tolosan.fr
X-WR-CALDESC:Events for Site officiel de la mairie de Rouffiac Tolosan
BEGIN:VEVENT
DTSTART;TZID=Europe/Paris:20190713T193000
DTEND;TZID=Europe/Paris:20190714T010000
DTSTAMP:20260425T102747
CREATED:20190709T165523Z
LAST-MODIFIED:20190709T165523Z
UID:2549-1563046200-1563066000@mairie-rouffiac-tolosan.fr
SUMMARY:Bal et Feu d'Artifice des Pompiers de Rouffiac-Tolosan
DESCRIPTION:
URL:https://mairie-rouffiac-tolosan.fr/calendrier/bal-et-feu-dartifice-des-pompiers-de-rouffiac-tolosan/
LOCATION:3 Chemin des Garosses\, Rouffiac-Tolosan\, 31180\, France
END:VEVENT
END:VCALENDAR